BEGIN:VCALENDAR
VERSION:2.0
PRODID:-//Maryland School for the Blind - ECPv6.15.20//NONSGML v1.0//EN
CALSCALE:GREGORIAN
METHOD:PUBLISH
X-WR-CALNAME:Maryland School for the Blind
X-ORIGINAL-URL:https://www.marylandschoolfortheblind.org
X-WR-CALDESC:Events for Maryland School for the Blind
REFRESH-INTERVAL;VALUE=DURATION:PT1H
X-Robots-Tag:noindex
X-PUBLISHED-TTL:PT1H
BEGIN:VTIMEZONE
TZID:America/New_York
BEGIN:DAYLIGHT
TZOFFSETFROM:-0500
TZOFFSETTO:-0400
TZNAME:EDT
DTSTART:20210314T070000
END:DAYLIGHT
BEGIN:STANDARD
TZOFFSETFROM:-0400
TZOFFSETTO:-0500
TZNAME:EST
DTSTART:20211107T060000
END:STANDARD
BEGIN:DAYLIGHT
TZOFFSETFROM:-0500
TZOFFSETTO:-0400
TZNAME:EDT
DTSTART:20220313T070000
END:DAYLIGHT
BEGIN:STANDARD
TZOFFSETFROM:-0400
TZOFFSETTO:-0500
TZNAME:EST
DTSTART:20221106T060000
END:STANDARD
BEGIN:DAYLIGHT
TZOFFSETFROM:-0500
TZOFFSETTO:-0400
TZNAME:EDT
DTSTART:20230312T070000
END:DAYLIGHT
BEGIN:STANDARD
TZOFFSETFROM:-0400
TZOFFSETTO:-0500
TZNAME:EST
DTSTART:20231105T060000
END:STANDARD
END:VTIMEZONE
BEGIN:VEVENT
DTSTART;TZID=America/New_York:20220929T180000
DTEND;TZID=America/New_York:20220929T190000
DTSTAMP:20260425T084331
CREATED:20220914T154945Z
LAST-MODIFIED:20220914T155015Z
UID:8812-1664474400-1664478000@www.marylandschoolfortheblind.org
SUMMARY:Parent Webinar - ABLE Accounts- Everything You Need to Know
DESCRIPTION:Webinar: Kelly Nelson\, Maryland ABLE Outreach and Communications Manager\, will share\nan overview of how ABLE accounts can help people with disabilities and their\nfamilies to save and invest for the future without jeopardizing federal\, state\, and\nlocal benefits such as SSI and Medicaid. Attendees will learn about tax-\nadvantaged savings and investment options as well as how to use the ABLE\naccount to pay for qualified disability-related expenses. Join us to learn about the\neligibility criteria\, enrollment process\, features of a Maryland ABLE account and\nthe account management process. \nRegister by clicking on the weblink
URL:https://www.marylandschoolfortheblind.org/event/able-accounts-everything-you-need-to-know/
LOCATION:Online
CATEGORIES:Parent Event
ATTACH;FMTTYPE=image/png:https://www.marylandschoolfortheblind.org/wp-content/uploads/2022/08/donate-icon.png
END:VEVENT
END:VCALENDAR