BEGIN:VCALENDAR
VERSION:2.0
PRODID:-//Maryland School for the Blind - ECPv6.15.20//NONSGML v1.0//EN
CALSCALE:GREGORIAN
METHOD:PUBLISH
X-ORIGINAL-URL:https://www.marylandschoolfortheblind.org
X-WR-CALDESC:Events for Maryland School for the Blind
REFRESH-INTERVAL;VALUE=DURATION:PT1H
X-Robots-Tag:noindex
X-PUBLISHED-TTL:PT1H
BEGIN:VTIMEZONE
TZID:America/New_York
BEGIN:DAYLIGHT
TZOFFSETFROM:-0500
TZOFFSETTO:-0400
TZNAME:EDT
DTSTART:20230312T070000
END:DAYLIGHT
BEGIN:STANDARD
TZOFFSETFROM:-0400
TZOFFSETTO:-0500
TZNAME:EST
DTSTART:20231105T060000
END:STANDARD
BEGIN:DAYLIGHT
TZOFFSETFROM:-0500
TZOFFSETTO:-0400
TZNAME:EDT
DTSTART:20240310T070000
END:DAYLIGHT
BEGIN:STANDARD
TZOFFSETFROM:-0400
TZOFFSETTO:-0500
TZNAME:EST
DTSTART:20241103T060000
END:STANDARD
BEGIN:DAYLIGHT
TZOFFSETFROM:-0500
TZOFFSETTO:-0400
TZNAME:EDT
DTSTART:20250309T070000
END:DAYLIGHT
BEGIN:STANDARD
TZOFFSETFROM:-0400
TZOFFSETTO:-0500
TZNAME:EST
DTSTART:20251102T060000
END:STANDARD
END:VTIMEZONE
BEGIN:VEVENT
DTSTART;TZID=America/New_York:20240202T090000
DTEND;TZID=America/New_York:20240202T120000
DTSTAMP:20260421T093508
CREATED:20240207T201910Z
LAST-MODIFIED:20240207T201950Z
UID:11937-1706864400-1706875200@www.marylandschoolfortheblind.org
SUMMARY:Virtual Mock Interviews
DESCRIPTION:Students from around the state who submitted personal statements will be paired with a panelist/interviewer based on their responses and given the opportunity to practice VIRTUAL interviewing skills. A link and assigned interview time will be sent to each student on January 26.
URL:https://www.marylandschoolfortheblind.org/event/virtual-mock-interviews/
LOCATION:Online
END:VEVENT
BEGIN:VEVENT
DTSTART;TZID=America/New_York:20240207T090000
DTEND;TZID=America/New_York:20240210T160000
DTSTAMP:20260421T093508
CREATED:20240207T201546Z
LAST-MODIFIED:20240207T201546Z
UID:11931-1707296400-1707580800@www.marylandschoolfortheblind.org
SUMMARY:2024 Maryland Regional Braille Challenge Day
DESCRIPTION:We build our future with braille! Join us at the Maryland School for the Blind from 9 am to 4 pm. Thank you to everyone who has encouraged students to sign up for the Braille Challenge and/or volunteered to help out. Do you have a student in grades 1-5 who is learning the letters of the alphabet in braille? Encourage them to sign up for the Lego Braille Brick Master Class. Students will engage in fun braille-related activities using Lego Bricks! Contact Jackie Otwell at jacquelineo@mdschblind.org with any questions.
URL:https://www.marylandschoolfortheblind.org/event/2024-maryland-regional-braille-challenge-day/
LOCATION:The Maryland School for the Blind\, 3501 Taylor Ave\, Baltimore\, MD\, 21236\, United States
END:VEVENT
BEGIN:VEVENT
DTSTART;VALUE=DATE:20240209
DTEND;VALUE=DATE:20240210
DTSTAMP:20260421T093508
CREATED:20230913T160307Z
LAST-MODIFIED:20240418T115007Z
UID:10933-1707436800-1707523199@www.marylandschoolfortheblind.org
SUMMARY:No Pre-K
DESCRIPTION:
URL:https://www.marylandschoolfortheblind.org/event/no-pre-k-6/
LOCATION:The Maryland School for the Blind\, 3501 Taylor Ave\, Baltimore\, MD\, 21236\, United States
END:VEVENT
BEGIN:VEVENT
DTSTART;TZID=America/New_York:20240210T090000
DTEND;TZID=America/New_York:20240210T113000
DTSTAMP:20260421T093508
CREATED:20240207T201657Z
LAST-MODIFIED:20240207T201657Z
UID:11933-1707555600-1707564600@www.marylandschoolfortheblind.org
SUMMARY:Little Dots Program
DESCRIPTION:Do you have a student between the ages of 2 and 5 years old learning braille? Invite their family to attend the Little Dots Program. Families will learn how to incorporate early tactile and early Braille activities into your everyday activities! Do you know a Teacher of the Visually Impaired that deserves recognition for their excellence in braille instruction? Nominate them for the Braille Institute 2024 Teacher of the Year of Excellence in Braille Instruction. Nominees will be recognized at the Braille Challenge and the nominations will be submitted to the Braille Institute!
URL:https://www.marylandschoolfortheblind.org/event/little-dots-program/
LOCATION:The Maryland School for the Blind\, 3501 Taylor Ave\, Baltimore\, MD\, 21236\, United States
END:VEVENT
BEGIN:VEVENT
DTSTART;TZID=America/New_York:20240210T130000
DTEND;TZID=America/New_York:20240210T160000
DTSTAMP:20260421T093508
CREATED:20240207T201759Z
LAST-MODIFIED:20240207T201759Z
UID:11935-1707570000-1707580800@www.marylandschoolfortheblind.org
SUMMARY:Build Your Future Fair
DESCRIPTION:Join MSB at the Braille Challenge for the Build Your Future Fair! Learn about the vast network of resources that can help you & your family. Featuring Perkins College Readiness\, Chimes\, Towson University\, CCBC\, Johns Hopkins\, DORS\, MarylandABLE\, BIT\, The Diller Home\, FAFSA Workshops and much much more! Pre-register for the Build Your Future Fair.
URL:https://www.marylandschoolfortheblind.org/event/build-your-future-fair/
LOCATION:The Maryland School for the Blind\, 3501 Taylor Ave\, Baltimore\, MD\, 21236\, United States
END:VEVENT
BEGIN:VEVENT
DTSTART;VALUE=DATE:20240219
DTEND;VALUE=DATE:20240220
DTSTAMP:20260421T093508
CREATED:20230913T160436Z
LAST-MODIFIED:20230913T160436Z
UID:10935-1708300800-1708387199@www.marylandschoolfortheblind.org
SUMMARY:Holiday - No Classes
DESCRIPTION:President’s Day
URL:https://www.marylandschoolfortheblind.org/event/holiday-no-classes/
END:VEVENT
BEGIN:VEVENT
DTSTART;TZID=America/New_York:20240227T180000
DTEND;TZID=America/New_York:20240227T190000
DTSTAMP:20260421T093508
CREATED:20240207T202305Z
LAST-MODIFIED:20240207T202305Z
UID:11939-1709056800-1709060400@www.marylandschoolfortheblind.org
SUMMARY:MSDE Transition Teen (Hybrid) Session
DESCRIPTION:English
URL:https://www.marylandschoolfortheblind.org/event/msde-transition-teen-hybrid-session/
END:VEVENT
BEGIN:VEVENT
DTSTART;TZID=America/New_York:20240228T180000
DTEND;TZID=America/New_York:20240228T190000
DTSTAMP:20260421T093508
CREATED:20240207T202355Z
LAST-MODIFIED:20240207T202429Z
UID:11941-1709143200-1709146800@www.marylandschoolfortheblind.org
SUMMARY:MSDE Transition Teen (Hybrid) Session
DESCRIPTION:Spanish
URL:https://www.marylandschoolfortheblind.org/event/msde-transition-teen-hybrid-session-2/
END:VEVENT
END:VCALENDAR