BEGIN:VCALENDAR
VERSION:2.0
PRODID:-//Maryland School for the Blind - ECPv6.15.20//NONSGML v1.0//EN
CALSCALE:GREGORIAN
METHOD:PUBLISH
X-ORIGINAL-URL:https://www.marylandschoolfortheblind.org
X-WR-CALDESC:Events for Maryland School for the Blind
REFRESH-INTERVAL;VALUE=DURATION:PT1H
X-Robots-Tag:noindex
X-PUBLISHED-TTL:PT1H
BEGIN:VTIMEZONE
TZID:America/New_York
BEGIN:DAYLIGHT
TZOFFSETFROM:-0500
TZOFFSETTO:-0400
TZNAME:EDT
DTSTART:20210314T070000
END:DAYLIGHT
BEGIN:STANDARD
TZOFFSETFROM:-0400
TZOFFSETTO:-0500
TZNAME:EST
DTSTART:20211107T060000
END:STANDARD
BEGIN:DAYLIGHT
TZOFFSETFROM:-0500
TZOFFSETTO:-0400
TZNAME:EDT
DTSTART:20220313T070000
END:DAYLIGHT
BEGIN:STANDARD
TZOFFSETFROM:-0400
TZOFFSETTO:-0500
TZNAME:EST
DTSTART:20221106T060000
END:STANDARD
BEGIN:DAYLIGHT
TZOFFSETFROM:-0500
TZOFFSETTO:-0400
TZNAME:EDT
DTSTART:20230312T070000
END:DAYLIGHT
BEGIN:STANDARD
TZOFFSETFROM:-0400
TZOFFSETTO:-0500
TZNAME:EST
DTSTART:20231105T060000
END:STANDARD
BEGIN:DAYLIGHT
TZOFFSETFROM:-0500
TZOFFSETTO:-0400
TZNAME:EDT
DTSTART:20240310T070000
END:DAYLIGHT
BEGIN:STANDARD
TZOFFSETFROM:-0400
TZOFFSETTO:-0500
TZNAME:EST
DTSTART:20241103T060000
END:STANDARD
END:VTIMEZONE
BEGIN:VEVENT
DTSTART;VALUE=DATE:20221226
DTEND;VALUE=DATE:20230103
DTSTAMP:20260421T201324
CREATED:20220826T155646Z
LAST-MODIFIED:20220826T155646Z
UID:8715-1672012800-1672703999@www.marylandschoolfortheblind.org
SUMMARY:School Closed for 12 month staff
DESCRIPTION:
URL:https://www.marylandschoolfortheblind.org/event/school-closed-for-12-month-staff/
END:VEVENT
BEGIN:VEVENT
DTSTART;VALUE=DATE:20221226
DTEND;VALUE=DATE:20230107
DTSTAMP:20260421T201324
CREATED:20220826T143538Z
LAST-MODIFIED:20220826T143538Z
UID:8654-1672012800-1673049599@www.marylandschoolfortheblind.org
SUMMARY:School closed for all students and 10 & 11 month staff
DESCRIPTION:
URL:https://www.marylandschoolfortheblind.org/event/school-closed-for-all-students-and-10-11-month-staff/
END:VEVENT
BEGIN:VEVENT
DTSTART;VALUE=DATE:20230109
DTEND;VALUE=DATE:20230110
DTSTAMP:20260421T201324
CREATED:20220826T143728Z
LAST-MODIFIED:20220826T143728Z
UID:8656-1673222400-1673308799@www.marylandschoolfortheblind.org
SUMMARY:School opens for students
DESCRIPTION:
URL:https://www.marylandschoolfortheblind.org/event/school-opens-for-students-2/
END:VEVENT
BEGIN:VEVENT
DTSTART;TZID=America/New_York:20230114T100000
DTEND;TZID=America/New_York:20230114T140000
DTSTAMP:20260421T201324
CREATED:20230106T183308Z
LAST-MODIFIED:20230106T183308Z
UID:9335-1673690400-1673704800@www.marylandschoolfortheblind.org
SUMMARY:Intro to Coding and Robotics
DESCRIPTION:Join MSB Outreach and Technology teachers to learn coding and robotics concepts. \n\nAt this first meeting\, we will review coding concepts and will explore robots with different levels of complexity. We will discuss accessibility features of each and how they support learning about coding and robotics for students with low vision/blindness. Lunch provided!\n\nCoding and Robotics Series Objectives:\n\n\nTo apply logic and problem-solving to different coding and robotic programs\nTo learn about low-vision/blind resources for coding and robotics\nTo feel more confident in applying commands\, functions\, loops and variables to coding sequences\nTo feel more confident in the use of accessibility features of technology when participating in coding and robotics activities\n\n\n\nOther potential meeting topics: Field trips to LEGO Robotics competition or a robotics lab\, using a robot to complete a challenge\, the pros and cons of different coding languages and accessibility.\n\nQuestions? Contact Amanda\, amandaa@mdschblind.org or 410-444-5000 x1257.
URL:https://www.marylandschoolfortheblind.org/event/intro-to-coding-and-robotics/
LOCATION:The Maryland School for the Blind\, 3501 Taylor Ave\, Baltimore\, MD\, 21236\, United States
END:VEVENT
BEGIN:VEVENT
DTSTART;VALUE=DATE:20230116
DTEND;VALUE=DATE:20230117
DTSTAMP:20260421T201324
CREATED:20220826T143819Z
LAST-MODIFIED:20220826T143819Z
UID:8658-1673827200-1673913599@www.marylandschoolfortheblind.org
SUMMARY:Holiday - School Closed
DESCRIPTION:
URL:https://www.marylandschoolfortheblind.org/event/holiday-school-closed-2/
END:VEVENT
BEGIN:VEVENT
DTSTART;VALUE=DATE:20230120
DTEND;VALUE=DATE:20230121
DTSTAMP:20260421T201324
CREATED:20220826T143908Z
LAST-MODIFIED:20220826T143908Z
UID:8660-1674172800-1674259199@www.marylandschoolfortheblind.org
SUMMARY:2nd Quarter ends
DESCRIPTION:
URL:https://www.marylandschoolfortheblind.org/event/2nd-quarter-ends-2/
END:VEVENT
BEGIN:VEVENT
DTSTART;VALUE=DATE:20230120
DTEND;VALUE=DATE:20230121
DTSTAMP:20260421T201324
CREATED:20220826T143955Z
LAST-MODIFIED:20220826T143955Z
UID:8662-1674172800-1674259199@www.marylandschoolfortheblind.org
SUMMARY:Professional Day - Classes end at 11:30 am - No Preschool
DESCRIPTION:
URL:https://www.marylandschoolfortheblind.org/event/professional-day-classes-end-at-1130-am-no-preschool-11/
END:VEVENT
BEGIN:VEVENT
DTSTART;TZID=America/New_York:20230124T100000
DTEND;TZID=America/New_York:20230124T110000
DTSTAMP:20260421T201324
CREATED:20230112T135731Z
LAST-MODIFIED:20230112T135731Z
UID:9345-1674554400-1674558000@www.marylandschoolfortheblind.org
SUMMARY:Safe Toddles- Collaboration Across Maryland Webinar
DESCRIPTION:A revolutionary new tool for toddlers with mobility visual impairments. A toddler who is mobility visually impaired requires a mobility tool to walk independently with safety.
URL:https://www.marylandschoolfortheblind.org/event/safe-toddles-collaboration-across-maryland-webinar/
LOCATION:Online
END:VEVENT
END:VCALENDAR