BEGIN:VCALENDAR
VERSION:2.0
PRODID:-//Maryland School for the Blind - ECPv6.15.20//NONSGML v1.0//EN
CALSCALE:GREGORIAN
METHOD:PUBLISH
X-WR-CALNAME:Maryland School for the Blind
X-ORIGINAL-URL:https://www.marylandschoolfortheblind.org
X-WR-CALDESC:Events for Maryland School for the Blind
REFRESH-INTERVAL;VALUE=DURATION:PT1H
X-Robots-Tag:noindex
X-PUBLISHED-TTL:PT1H
BEGIN:VTIMEZONE
TZID:America/New_York
BEGIN:DAYLIGHT
TZOFFSETFROM:-0500
TZOFFSETTO:-0400
TZNAME:EDT
DTSTART:20230312T070000
END:DAYLIGHT
BEGIN:STANDARD
TZOFFSETFROM:-0400
TZOFFSETTO:-0500
TZNAME:EST
DTSTART:20231105T060000
END:STANDARD
BEGIN:DAYLIGHT
TZOFFSETFROM:-0500
TZOFFSETTO:-0400
TZNAME:EDT
DTSTART:20240310T070000
END:DAYLIGHT
BEGIN:STANDARD
TZOFFSETFROM:-0400
TZOFFSETTO:-0500
TZNAME:EST
DTSTART:20241103T060000
END:STANDARD
BEGIN:DAYLIGHT
TZOFFSETFROM:-0500
TZOFFSETTO:-0400
TZNAME:EDT
DTSTART:20250309T070000
END:DAYLIGHT
BEGIN:STANDARD
TZOFFSETFROM:-0400
TZOFFSETTO:-0500
TZNAME:EST
DTSTART:20251102T060000
END:STANDARD
END:VTIMEZONE
BEGIN:VEVENT
DTSTART;TZID=America/New_York:20241114T150000
DTEND;TZID=America/New_York:20241114T160000
DTSTAMP:20260421T183126
CREATED:20241112T154015Z
LAST-MODIFIED:20241206T145827Z
UID:13863-1731596400-1731600000@www.marylandschoolfortheblind.org
SUMMARY:Programs and Facilities Committee
DESCRIPTION:The Programs and Facilities Committee focuses on ensuring programs are impactful and facilities are safe\, accessible\, and optimized for learning. \nClick to join Zoom Meeting \nClick to review Agenda \nPrograms and Facilities Committee Notes
URL:https://www.marylandschoolfortheblind.org/event/programs-and-facilities-committee/
LOCATION:Online
CATEGORIES:Public
END:VEVENT
END:VCALENDAR