BEGIN:VCALENDAR
VERSION:2.0
PRODID:-//Maryland School for the Blind - ECPv6.15.20//NONSGML v1.0//EN
CALSCALE:GREGORIAN
METHOD:PUBLISH
X-ORIGINAL-URL:https://www.marylandschoolfortheblind.org
X-WR-CALDESC:Events for Maryland School for the Blind
REFRESH-INTERVAL;VALUE=DURATION:PT1H
X-Robots-Tag:noindex
X-PUBLISHED-TTL:PT1H
BEGIN:VTIMEZONE
TZID:America/New_York
BEGIN:DAYLIGHT
TZOFFSETFROM:-0500
TZOFFSETTO:-0400
TZNAME:EDT
DTSTART:20230312T070000
END:DAYLIGHT
BEGIN:STANDARD
TZOFFSETFROM:-0400
TZOFFSETTO:-0500
TZNAME:EST
DTSTART:20231105T060000
END:STANDARD
BEGIN:DAYLIGHT
TZOFFSETFROM:-0500
TZOFFSETTO:-0400
TZNAME:EDT
DTSTART:20240310T070000
END:DAYLIGHT
BEGIN:STANDARD
TZOFFSETFROM:-0400
TZOFFSETTO:-0500
TZNAME:EST
DTSTART:20241103T060000
END:STANDARD
BEGIN:DAYLIGHT
TZOFFSETFROM:-0500
TZOFFSETTO:-0400
TZNAME:EDT
DTSTART:20250309T070000
END:DAYLIGHT
BEGIN:STANDARD
TZOFFSETFROM:-0400
TZOFFSETTO:-0500
TZNAME:EST
DTSTART:20251102T060000
END:STANDARD
END:VTIMEZONE
BEGIN:VEVENT
DTSTART;TZID=America/New_York:20240207T090000
DTEND;TZID=America/New_York:20240210T160000
DTSTAMP:20260419T152228
CREATED:20240207T201546Z
LAST-MODIFIED:20240207T201546Z
UID:11931-1707296400-1707580800@www.marylandschoolfortheblind.org
SUMMARY:2024 Maryland Regional Braille Challenge Day
DESCRIPTION:We build our future with braille! Join us at the Maryland School for the Blind from 9 am to 4 pm. Thank you to everyone who has encouraged students to sign up for the Braille Challenge and/or volunteered to help out. Do you have a student in grades 1-5 who is learning the letters of the alphabet in braille? Encourage them to sign up for the Lego Braille Brick Master Class. Students will engage in fun braille-related activities using Lego Bricks! Contact Jackie Otwell at jacquelineo@mdschblind.org with any questions.
URL:https://www.marylandschoolfortheblind.org/event/2024-maryland-regional-braille-challenge-day/
LOCATION:The Maryland School for the Blind\, 3501 Taylor Ave\, Baltimore\, MD\, 21236\, United States
END:VEVENT
BEGIN:VEVENT
DTSTART;VALUE=DATE:20240209
DTEND;VALUE=DATE:20240210
DTSTAMP:20260419T152228
CREATED:20230913T160307Z
LAST-MODIFIED:20240418T115007Z
UID:10933-1707436800-1707523199@www.marylandschoolfortheblind.org
SUMMARY:No Pre-K
DESCRIPTION:
URL:https://www.marylandschoolfortheblind.org/event/no-pre-k-6/
LOCATION:The Maryland School for the Blind\, 3501 Taylor Ave\, Baltimore\, MD\, 21236\, United States
END:VEVENT
END:VCALENDAR