BEGIN:VCALENDAR
VERSION:2.0
PRODID:-//Maryland School for the Blind - ECPv6.15.20//NONSGML v1.0//EN
CALSCALE:GREGORIAN
METHOD:PUBLISH
X-ORIGINAL-URL:https://www.marylandschoolfortheblind.org
X-WR-CALDESC:Events for Maryland School for the Blind
REFRESH-INTERVAL;VALUE=DURATION:PT1H
X-Robots-Tag:noindex
X-PUBLISHED-TTL:PT1H
BEGIN:VTIMEZONE
TZID:America/New_York
BEGIN:DAYLIGHT
TZOFFSETFROM:-0500
TZOFFSETTO:-0400
TZNAME:EDT
DTSTART:20220313T070000
END:DAYLIGHT
BEGIN:STANDARD
TZOFFSETFROM:-0400
TZOFFSETTO:-0500
TZNAME:EST
DTSTART:20221106T060000
END:STANDARD
BEGIN:DAYLIGHT
TZOFFSETFROM:-0500
TZOFFSETTO:-0400
TZNAME:EDT
DTSTART:20230312T070000
END:DAYLIGHT
BEGIN:STANDARD
TZOFFSETFROM:-0400
TZOFFSETTO:-0500
TZNAME:EST
DTSTART:20231105T060000
END:STANDARD
BEGIN:DAYLIGHT
TZOFFSETFROM:-0500
TZOFFSETTO:-0400
TZNAME:EDT
DTSTART:20240310T070000
END:DAYLIGHT
BEGIN:STANDARD
TZOFFSETFROM:-0400
TZOFFSETTO:-0500
TZNAME:EST
DTSTART:20241103T060000
END:STANDARD
END:VTIMEZONE
BEGIN:VEVENT
DTSTART;TZID=America/New_York:20231108T180000
DTEND;TZID=America/New_York:20231108T190000
DTSTAMP:20260419T094852
CREATED:20231110T143140Z
LAST-MODIFIED:20231110T143140Z
UID:11533-1699466400-1699470000@www.marylandschoolfortheblind.org
SUMMARY:Homeschool Parent Gathering
DESCRIPTION:Join MSB Outreach from 6-7pm virtually or on campus in Early Learning Building Room 203 to meet other parents\, discuss accessible activities for home school and private school students\, and connect! Contact Cynthia Rodriguez at cynthiar@mdschblind.org or 410-444-500 ext 1489 with questions. Register to attend Home School/Private School Parent Gathering. \nHogar Escuela/Escuela privada Parent Connect\n8 de noviembre\, 6-7pm. ¡Ven a conocer a otros padres\, analiza actividades accesibles para estudiantes de escuelas privadas y de educación en el hogar y conéctate! Híbrido; virtuales o reunión en persona en la Sala 203 del Edificio de Aprendizaje Temprano. Contacto: Cynthia Rodríguez a cynthiar@mdschblind.org o 410-444-500 extensión 1489. Regístrese para Hogar Escuela/Escuela privada Parent Connect. \nHogar escuela de la privada y connect. \nHome school private school parent connect flyer.
URL:https://www.marylandschoolfortheblind.org/event/homeschool-parent-gathering/
LOCATION:The Maryland School for the Blind\, 3501 Taylor Ave\, Baltimore\, MD\, 21236\, United States
CATEGORIES:Parent Event
END:VEVENT
END:VCALENDAR