BEGIN:VCALENDAR
VERSION:2.0
PRODID:-//Maryland School for the Blind - ECPv6.15.20//NONSGML v1.0//EN
CALSCALE:GREGORIAN
METHOD:PUBLISH
X-ORIGINAL-URL:https://www.marylandschoolfortheblind.org
X-WR-CALDESC:Events for Maryland School for the Blind
REFRESH-INTERVAL;VALUE=DURATION:PT1H
X-Robots-Tag:noindex
X-PUBLISHED-TTL:PT1H
BEGIN:VTIMEZONE
TZID:America/New_York
BEGIN:DAYLIGHT
TZOFFSETFROM:-0500
TZOFFSETTO:-0400
TZNAME:EDT
DTSTART:20210314T070000
END:DAYLIGHT
BEGIN:STANDARD
TZOFFSETFROM:-0400
TZOFFSETTO:-0500
TZNAME:EST
DTSTART:20211107T060000
END:STANDARD
BEGIN:DAYLIGHT
TZOFFSETFROM:-0500
TZOFFSETTO:-0400
TZNAME:EDT
DTSTART:20220313T070000
END:DAYLIGHT
BEGIN:STANDARD
TZOFFSETFROM:-0400
TZOFFSETTO:-0500
TZNAME:EST
DTSTART:20221106T060000
END:STANDARD
BEGIN:DAYLIGHT
TZOFFSETFROM:-0500
TZOFFSETTO:-0400
TZNAME:EDT
DTSTART:20230312T070000
END:DAYLIGHT
BEGIN:STANDARD
TZOFFSETFROM:-0400
TZOFFSETTO:-0500
TZNAME:EST
DTSTART:20231105T060000
END:STANDARD
END:VTIMEZONE
BEGIN:VEVENT
DTSTART;TZID=America/New_York:20220606T180000
DTEND;TZID=America/New_York:20220606T210000
DTSTAMP:20260422T162421
CREATED:20220105T040120Z
LAST-MODIFIED:20220606T180714Z
UID:7642-1654538400-1654549200@www.marylandschoolfortheblind.org
SUMMARY:MSB Class of 2022 Graduation
DESCRIPTION:Please click the link below to join the webinar: \nhttps://us06web.zoom.us/j/84233691963?pwd=VHhia2UyUlhYRDJVNGpQeFFzZGpVdz09 \nPasscode: 055293 \nOr One tap mobile :    US: +13017158592\,\,84233691963#\,\,\,\,*055293#  or +16465588656\,\,84233691963#\,\,\,\,*055293# \nOr Telephone:    Dial(for higher quality\, dial a number based on your current location):        US: +1 301 715 8592  or +1 646 558 8656  or +1 312 626 6799  or +1 253 215 8782  or +1 346 248 7799  or +1 669 900 6833 \nWebinar ID: 842 3369 1963 Passcode: 055293 \nInternational numbers available: https://us06web.zoom.us/u/kdm6S8lGQN \n 
URL:https://www.marylandschoolfortheblind.org/event/msb-class-of-2022-graduation/
LOCATION:The Maryland School for the Blind\, 3501 Taylor Ave\, Baltimore\, MD\, 21236\, United States
END:VEVENT
END:VCALENDAR